BEGIN:VCALENDAR
VERSION:2.0
PRODID:-//Foto-Club Darmstadt e.V. - ECPv6.15.20//NONSGML v1.0//EN
CALSCALE:GREGORIAN
METHOD:PUBLISH
X-WR-CALNAME:Foto-Club Darmstadt e.V.
X-ORIGINAL-URL:https://fotoclub-darmstadt.de
X-WR-CALDESC:Veranstaltungen für Foto-Club Darmstadt e.V.
REFRESH-INTERVAL;VALUE=DURATION:PT1H
X-Robots-Tag:noindex
X-PUBLISHED-TTL:PT1H
BEGIN:VTIMEZONE
TZID:Europe/Berlin
BEGIN:DAYLIGHT
TZOFFSETFROM:+0100
TZOFFSETTO:+0200
TZNAME:CEST
DTSTART:20170326T010000
END:DAYLIGHT
BEGIN:STANDARD
TZOFFSETFROM:+0200
TZOFFSETTO:+0100
TZNAME:CET
DTSTART:20171029T010000
END:STANDARD
BEGIN:DAYLIGHT
TZOFFSETFROM:+0100
TZOFFSETTO:+0200
TZNAME:CEST
DTSTART:20180325T010000
END:DAYLIGHT
BEGIN:STANDARD
TZOFFSETFROM:+0200
TZOFFSETTO:+0100
TZNAME:CET
DTSTART:20181028T010000
END:STANDARD
BEGIN:DAYLIGHT
TZOFFSETFROM:+0100
TZOFFSETTO:+0200
TZNAME:CEST
DTSTART:20190331T010000
END:DAYLIGHT
BEGIN:STANDARD
TZOFFSETFROM:+0200
TZOFFSETTO:+0100
TZNAME:CET
DTSTART:20191027T010000
END:STANDARD
END:VTIMEZONE
BEGIN:VEVENT
DTSTART;TZID=Europe/Berlin:20180403T190000
DTEND;TZID=Europe/Berlin:20180403T210000
DTSTAMP:20260423T113536
CREATED:20231005T204033Z
LAST-MODIFIED:20231005T204033Z
UID:18193-1522782000-1522789200@fotoclub-darmstadt.de
SUMMARY:DVF-Kreis verschoben wg. Jurierung Fotowettbewerb
DESCRIPTION:teilen E-Mail teilen Pocket teilen teilen 
URL:https://fotoclub-darmstadt.de/veranstaltung/dvf-kreis-verschoben-wg-jurierung-fotowettbewerb/
CATEGORIES:DVF-Gruppe
END:VEVENT
BEGIN:VEVENT
DTSTART;TZID=Europe/Berlin:20180405T193000
DTEND;TZID=Europe/Berlin:20180405T220000
DTSTAMP:20260423T113536
CREATED:20231005T204032Z
LAST-MODIFIED:20231005T204032Z
UID:18190-1522956600-1522965600@fotoclub-darmstadt.de
SUMMARY:Vorstandssitzung
DESCRIPTION:teilen E-Mail teilen Pocket teilen teilen 
URL:https://fotoclub-darmstadt.de/veranstaltung/vorstandssitzung-46/
CATEGORIES:Vorstand
END:VEVENT
BEGIN:VEVENT
DTSTART;TZID=Europe/Berlin:20180407T090000
DTEND;TZID=Europe/Berlin:20180407T170000
DTSTAMP:20260423T113536
CREATED:20231005T204032Z
LAST-MODIFIED:20231005T204032Z
UID:18191-1523091600-1523120400@fotoclub-darmstadt.de
SUMMARY:Composing Workshop mit Harry Bünger
DESCRIPTION:Harry Bünger (//www.h-h-buenger.de/) ist ein erfahrener Photoshop Künstler und international erfolgreicher  Fotograf. Ein Schwerpunkt seiner fotografischen Arbeiten sind komplexe Composings. \nEr wird uns die Grundlagen seiner Arbeiten zeigen und exemplarisch mit uns ein Composing  aus einzelnen Bildteilen erstellen. Dabei sehen wir\, welche Techniken zur Anwendung kommen können und finden sicherlich Hinweise und Verbesserungen für die eigenen Arbeiten. Dies auch\, wenn man selbst bislang keine Composings ersteltl hat oder erstellen möchte. Freistellen\, Perspektive\, Schatten etc. sind für viele Bildbearbeitungsmöglichkeiten verwendbar. \nWegen der zahlreichen Anmeldungen wird der Workshop nochmal durchgeführt Gruppe 2:\nWann: Samstag\, 07.04.2018 von 9:00 bis ca. 17:00 Uhr\nWo: Im Foto-Club Darmstadt\nMitzubringen: Laptop und Photoshop Grundkenntnisse\nTeilnahme: Nur Foto-Club Mitglieder \nteilen E-Mail teilen Pocket teilen teilen 
URL:https://fotoclub-darmstadt.de/veranstaltung/composing-workshop-mit-harry-buenger-2/
CATEGORIES:Der Club,DVF-Gruppe
END:VEVENT
BEGIN:VEVENT
DTSTART;TZID=Europe/Berlin:20180410T193000
DTEND;TZID=Europe/Berlin:20180410T213000
DTSTAMP:20260423T113536
CREATED:20231005T204035Z
LAST-MODIFIED:20231005T204035Z
UID:18197-1523388600-1523395800@fotoclub-darmstadt.de
SUMMARY:Blitzgruppe
DESCRIPTION:An diesem Abend steht nochmals das Thema „Eisfrüchte“ auf dem Programm. \nteilen E-Mail teilen Pocket teilen teilen 
URL:https://fotoclub-darmstadt.de/veranstaltung/blitzgruppe/
END:VEVENT
BEGIN:VEVENT
DTSTART;TZID=Europe/Berlin:20180412T193000
DTEND;TZID=Europe/Berlin:20180412T223000
DTSTAMP:20260423T113536
CREATED:20231005T204022Z
LAST-MODIFIED:20231005T204022Z
UID:18172-1523561400-1523572200@fotoclub-darmstadt.de
SUMMARY:Mitgliederversammlung (Nur für Mitglieder)
DESCRIPTION:Der Vorstand lädt alle Mitglieder zur diesjährigen Mitgliederversammlung ein. In diesem Jahr wird auch der Vorstand gewählt. Wir bitten um zahlreiches Erscheinen. Die Einladung geht jedem Mitglied rechtzeitig zu. \nteilen E-Mail teilen Pocket teilen teilen 
URL:https://fotoclub-darmstadt.de/veranstaltung/mitgliederversammlung-nur-fuer-mitglieder-2/
CATEGORIES:Clubabend
END:VEVENT
BEGIN:VEVENT
DTSTART;TZID=Europe/Berlin:20180417T190000
DTEND;TZID=Europe/Berlin:20180417T213000
DTSTAMP:20260423T113536
CREATED:20231005T204035Z
LAST-MODIFIED:20231005T204035Z
UID:18198-1523991600-1524000600@fotoclub-darmstadt.de
SUMMARY:Drucker Arbeitskreis
DESCRIPTION:teilen E-Mail teilen Pocket teilen teilen 
URL:https://fotoclub-darmstadt.de/veranstaltung/drucker-arbeitskreis/
CATEGORIES:Drucker-Kreis
END:VEVENT
BEGIN:VEVENT
DTSTART;TZID=Europe/Berlin:20180418T193000
DTEND;TZID=Europe/Berlin:20180418T220000
DTSTAMP:20260423T113536
CREATED:20231005T204033Z
LAST-MODIFIED:20231005T204033Z
UID:18192-1524079800-1524088800@fotoclub-darmstadt.de
SUMMARY:Ausstellungseröffnung zum Jugendfotowettbewerb "Perspektiven-Strategien fotografischen Handelns"
DESCRIPTION:Perspektiven-Strategien fotografischen Handelns\nJugendfotowettbewerb\n18.04 bis 26.05.2018\, im Weißen Turm\nVernissage am Mittwoch 18.04.-19:15 Uhr \nDie Ausstellungseröffnung\nJochen Partsch\, Oberbürgermeister der Stadt Darmstadt\nAlbrecht Haag\, Darmstädter Tage der Fotografie \nBeim diesjährigen Jugendfotowettbewerb mit dem Thema\n‘Perspektiven – Strategien fotografischen Handelns’ wurden von über\n90 Teilnehmer/innen mehr als 190 Bilder eingereicht. Eine Jury hat\ndie Gewinnerbilder sowie weitere herausragende Einreichungen\nausgewählt\, die im Rahmen der 10. Darmstädter Tage der Fotografie\n(20.-22.04.) im Weißen Turm Darmstadt ausgestellt werden.\nFoto: Ariane Klein \nÖffnungszeiten: \nMi. 18.04. 19:15 Uhr Ausstellungseröffnung\nSa. 21.04. 10 – 18 Uhr Darmstädter Tage der Fotografie\nSo. 22.04. 10 – 18 Uhr Darmstädter Tage der Fotografie\nMi. 25.04. 15 – 19 Uhr\nSa. 28.04. 13 – 17 Uhr \nMi. 09.05. 15 – 19 Uhr\nSa. 12.05. 13 – 17 Uhr\nMi. 16.05. 15 – 19 Uhr\nSa. 19.05 13 – 17 Uhr\nMi. 23.05. 15 – 19 Uhr\nSa. 26.05. 13 – 17 Uhr Letzter Ausstellungstag \nAnmeldungen für Schulführungen außerhalb der Öffnungszeiten bitte unter perspektiven@fotoclub-darmstadt.de oder 06151 74410. \nteilen E-Mail teilen Pocket teilen teilen 
URL:https://fotoclub-darmstadt.de/veranstaltung/ausstellungseroeffnung-zum-jugendfotowettbewerb-perspektiven-strategien-fotografischen-handelns/
CATEGORIES:Ausstellungen,Der Club,Vernissage
END:VEVENT
BEGIN:VEVENT
DTSTART;TZID=Europe/Berlin:20180419T193000
DTEND;TZID=Europe/Berlin:20180419T213000
DTSTAMP:20260423T113536
CREATED:20231005T204022Z
LAST-MODIFIED:20231005T204022Z
UID:18171-1524166200-1524173400@fotoclub-darmstadt.de
SUMMARY:Vorbereitung Fotobörse
DESCRIPTION:An diesem Abend werden die Sachen für die Fotobörse am 22.4.2018 zusammengestellt. \nteilen E-Mail teilen Pocket teilen teilen 
URL:https://fotoclub-darmstadt.de/veranstaltung/vorbereitung-fotoboerse-3/
END:VEVENT
BEGIN:VEVENT
DTSTART;TZID=Europe/Berlin:20180422T100000
DTEND;TZID=Europe/Berlin:20180422T160000
DTSTAMP:20260423T113536
CREATED:20231005T204021Z
LAST-MODIFIED:20231005T204021Z
UID:18170-1524391200-1524412800@fotoclub-darmstadt.de
SUMMARY:Fotobörse
DESCRIPTION:teilen E-Mail teilen Pocket teilen teilen 
URL:https://fotoclub-darmstadt.de/veranstaltung/fotoboerse-3/
CATEGORIES:Veranstaltungen
END:VEVENT
BEGIN:VEVENT
DTSTART;TZID=Europe/Berlin:20180424T190000
DTEND;TZID=Europe/Berlin:20180424T213000
DTSTAMP:20260423T113536
CREATED:20231005T204033Z
LAST-MODIFIED:20231005T204033Z
UID:18194-1524596400-1524605400@fotoclub-darmstadt.de
SUMMARY:Workshop zur High-ISO Fotografie und Bildbearbeitung (Teil 1 von 3) - DVF Arbeitsgruppe
DESCRIPTION:Für die kommenden beiden DVF-Abende hatten wir abweichende Termine festgelegt (wegen Ostern bzw. Feiertagen): \nWorkshop zur High-ISO Fotografie und Bildbearbeitung \n Dienstag\, 24.04.: High-ISO in der Theorie (warum gibt es Bildrauschen\, welche Einstellungsmöglichkeiten gibt es bei wenig Licht\, welche Tools zur Nachbereitung gibt es\,…)\, dazu bitte auch die eigene Kamera mitbringen\, damit wir Einstellungen testen und erklären können. Wir wollen auch mit verschiedenen Kameras (verschiedene Sensorgrößen und verschiedene Kameragenerationen) bei hoher ISO Einstellung  Bilder machen und vergleichen. Der Abend dient als Vorbereitung für das Shooting \nDienstag\, 29.05.: Shooting bei wenig Licht mit einem Model (geplant Billardkneipe nahe Fotoclub) mit Anwendung der Theorie aus dem Vortermin. \nDienstag\, 26.06.: Bildbesprechung und Bildbearbeitung der Bilder vom 29.05. \n  \nteilen E-Mail teilen Pocket teilen teilen 
URL:https://fotoclub-darmstadt.de/veranstaltung/workshop-zur-high-iso-fotografie-und-bildbearbeitung-teil-1-von-3-dvf-arbeitsgruppe/
CATEGORIES:DVF-Gruppe
END:VEVENT
BEGIN:VEVENT
DTSTART;TZID=Europe/Berlin:20180424T193000
DTEND;TZID=Europe/Berlin:20180424T213000
DTSTAMP:20260423T113536
CREATED:20231005T204028Z
LAST-MODIFIED:20231005T204028Z
UID:18183-1524598200-1524605400@fotoclub-darmstadt.de
SUMMARY:DigiKreis fällt aus
DESCRIPTION:teilen E-Mail teilen Pocket teilen teilen 
URL:https://fotoclub-darmstadt.de/veranstaltung/digikreis-faellt-aus-2/
END:VEVENT
BEGIN:VEVENT
DTSTART;TZID=Europe/Berlin:20180426T180000
DTEND;TZID=Europe/Berlin:20180426T193000
DTSTAMP:20260423T113536
CREATED:20231005T204043Z
LAST-MODIFIED:20231005T204043Z
UID:18215-1524765600-1524771000@fotoclub-darmstadt.de
SUMMARY:Ausstellung INSIDE OUT - Fotografie und Psychologie - Besuch mit Führung
DESCRIPTION:Achtung: Die Führung ist um 1h auf 18 Uhr vorverlegt. \nBahnfahrer treffen sich um 17:15 Uhr Bahnhofshalle.\nAbfahrt 17:31 Uhr\, Ankunft Frankfurt Hbf 17:48 Uhr \nDer Foto-Club plant am Do. 26.04. die Ausstellung zu besuchen. Wir nehmen an eine öffentliche Führung  teil.  \nEine Ausstellung von Prof. Dr. Steffen Siegel und Dipl.-Psych. David Keller\nMit Werken von:\nMichael Ackerman\, Roger Ballen\, Alexandra Baumgartner\, Sibylle Bergemann\, Sophie Calle\,\nGregory Crewdson\, Altan Eskin\, VALIE EXPORT\, Hans-Peter Feldmann\, John Hilliard\,\nAino Kannisto\, Robert Longo\, Arnulf Rainer\, Walter Schels\, Laurie Simmons\, Taryn Simon\,\nAnnegret Soltau\, Peter Weibel \nAbb. John Hillard\, Distorted Vision \n  \n\n\n\n\n\nteilen E-Mail teilen Pocket teilen teilen 
URL:https://fotoclub-darmstadt.de/veranstaltung/ausstellung-inside-out-fotografie-und-psychologie-besuch-mit-fuehrung/
CATEGORIES:Ausstellungen,Der Club
END:VEVENT
END:VCALENDAR