BEGIN:VCALENDAR
VERSION:2.0
PRODID:-//Foto-Club Darmstadt e.V. - ECPv6.15.20//NONSGML v1.0//EN
CALSCALE:GREGORIAN
METHOD:PUBLISH
X-ORIGINAL-URL:https://fotoclub-darmstadt.de
X-WR-CALDESC:Veranstaltungen für Foto-Club Darmstadt e.V.
REFRESH-INTERVAL;VALUE=DURATION:PT1H
X-Robots-Tag:noindex
X-PUBLISHED-TTL:PT1H
BEGIN:VTIMEZONE
TZID:Europe/Berlin
BEGIN:DAYLIGHT
TZOFFSETFROM:+0100
TZOFFSETTO:+0200
TZNAME:CEST
DTSTART:20170326T010000
END:DAYLIGHT
BEGIN:STANDARD
TZOFFSETFROM:+0200
TZOFFSETTO:+0100
TZNAME:CET
DTSTART:20171029T010000
END:STANDARD
BEGIN:DAYLIGHT
TZOFFSETFROM:+0100
TZOFFSETTO:+0200
TZNAME:CEST
DTSTART:20180325T010000
END:DAYLIGHT
BEGIN:STANDARD
TZOFFSETFROM:+0200
TZOFFSETTO:+0100
TZNAME:CET
DTSTART:20181028T010000
END:STANDARD
BEGIN:DAYLIGHT
TZOFFSETFROM:+0100
TZOFFSETTO:+0200
TZNAME:CEST
DTSTART:20190331T010000
END:DAYLIGHT
BEGIN:STANDARD
TZOFFSETFROM:+0200
TZOFFSETTO:+0100
TZNAME:CET
DTSTART:20191027T010000
END:STANDARD
END:VTIMEZONE
BEGIN:VEVENT
DTSTART;TZID=Europe/Berlin:20180104T193000
DTEND;TZID=Europe/Berlin:20180104T220000
DTSTAMP:20260425T150306
CREATED:20231005T204017Z
LAST-MODIFIED:20231005T204017Z
UID:18162-1515094200-1515103200@fotoclub-darmstadt.de
SUMMARY:Vorstandssitzung
DESCRIPTION:teilen E-Mail teilen Pocket teilen teilen 
URL:https://fotoclub-darmstadt.de/veranstaltung/vorstandssitzung-43/
CATEGORIES:Vorstand
END:VEVENT
BEGIN:VEVENT
DTSTART;TZID=Europe/Berlin:20180109T190000
DTEND;TZID=Europe/Berlin:20180109T210000
DTSTAMP:20260425T150306
CREATED:20231005T204013Z
LAST-MODIFIED:20231005T204013Z
UID:18155-1515524400-1515531600@fotoclub-darmstadt.de
SUMMARY:DVF-Kreis
DESCRIPTION:Liebe Fotofreundinnen und Fotofreunde des DVF-Kreises\, \nam 09. Januar um 19h wollen wir eine erste Foto-Auswahl für die anstehende DVF-Landesfotomeisterschaft treffen. Dazu bringt bitte (digital auf USB-Stick) Fotos mit\, die wir dann zusammen sichten\, besprechen und Bearbeitungstipps geben. Da es an diesem Abend um die Sichtung und Auswahl geht braucht ihr keine Laptops mitbringen\, wir werden die Fotos nicht vor Ort bearbeiten. \nDie Fotos sollten zu der beiliegenden Ausschreibung (A und optional auch C) passen und idealerweise von euch auch schon (vor-)bearbeitet sein. Damit es möglich ist eine Auswahl zu treffen sollten für A mindestens 8 Fotos pro Person und für alle die gerne auch bei C mitmachen möchten zusätzlich nochmal mindestens 4 Fotos pro Person mitgebracht werden – also insgesamt eher mehr als weniger\, dann können wir die Fotos gut besprechen und auswählen. Natürlich kann auch die Kategorie B noch bestückt werden wenn ihr mögt\, für eine erste Teilnahme und um Erfahrungen zu sammeln würden wir aber zunächst A und C empfehlen. \nDie gemeinsam ausgewählten Fotos könnt ihr dann in den Tagen bis zur Einreichung zum Wettbewerb weiter bearbeiten und optimieren\, durch die gemeinsame Diskussion davor wird das sicher noch erfolgreicher. \nDie Teilnahme möglichst vieler von euch am Wettbewerb wäre super\, dann können wir Punkte für den Club sammeln! Voraussetzung zur Wettbewerbsteilnahme ist die Mitgliedschaft im DVF\, wie bei unserem letzten Treffen besprochen. Wer noch kein Mitglied im DVF werden möchte und/oder nicht am Wettbewerb teilnehmen möchte braucht das natürlich nicht! Schön wäre\, wenn ihr trotzdem entsprechend der Ausschreibung Bilder mitbringt\, die wir dann gemeinsam besprechen. Der Abend lebt also von euren mitgebrachten Werken – wir freuen uns auf die gemeinsame Bildbesprechung- \nMarco & Michael  \nteilen E-Mail teilen Pocket teilen teilen 
URL:https://fotoclub-darmstadt.de/veranstaltung/dvf-kreis-4/
CATEGORIES:DVF-Gruppe
END:VEVENT
BEGIN:VEVENT
DTSTART;TZID=Europe/Berlin:20180111T193000
DTEND;TZID=Europe/Berlin:20180111T213000
DTSTAMP:20260425T150307
CREATED:20231005T204013Z
LAST-MODIFIED:20231005T204013Z
UID:18156-1515699000-1515706200@fotoclub-darmstadt.de
SUMMARY:Vorstellen neuer Fotobücher (Bibliotheksteam)
DESCRIPTION:Es werden die neuen Bücher aus der Bibliothek vorgestellt\, die seit 2016 angeschafft wurden.\nBitte auch priv. Foto Bücher mitbringen.  \nteilen E-Mail teilen Pocket teilen teilen 
URL:https://fotoclub-darmstadt.de/veranstaltung/vorstellen-neuer-fotobuecher-bibliotheksteam/
CATEGORIES:Bibliothek,Der Club
END:VEVENT
BEGIN:VEVENT
DTSTART;TZID=Europe/Berlin:20180113T193000
DTEND;TZID=Europe/Berlin:20180113T213000
DTSTAMP:20260425T150307
CREATED:20231005T204023Z
LAST-MODIFIED:20231005T204023Z
UID:18174-1515871800-1515879000@fotoclub-darmstadt.de
SUMMARY:Blitz-Gruppe-Nur für Mitglieder
DESCRIPTION:teilen E-Mail teilen Pocket teilen teilen 
URL:https://fotoclub-darmstadt.de/veranstaltung/blitz-gruppe-nur-fuer-mitglieder-2/
CATEGORIES:Blitz-Gruppe
END:VEVENT
BEGIN:VEVENT
DTSTART;TZID=Europe/Berlin:20180113T193000
DTEND;TZID=Europe/Berlin:20180113T213000
DTSTAMP:20260425T150307
CREATED:20231005T204025Z
LAST-MODIFIED:20231005T204025Z
UID:18178-1515871800-1515879000@fotoclub-darmstadt.de
SUMMARY:Blitz-Gruppe-Nur für Mitglieder
DESCRIPTION:teilen E-Mail teilen Pocket teilen teilen 
URL:https://fotoclub-darmstadt.de/veranstaltung/blitz-gruppe-nur-fuer-mitglieder-3/
CATEGORIES:Blitz-Gruppe
END:VEVENT
BEGIN:VEVENT
DTSTART;TZID=Europe/Berlin:20180116T193000
DTEND;TZID=Europe/Berlin:20180116T220000
DTSTAMP:20260425T150307
CREATED:20231005T204014Z
LAST-MODIFIED:20231005T204014Z
UID:18157-1516131000-1516140000@fotoclub-darmstadt.de
SUMMARY:Blitzgruppe - Nur für Mitglieder
DESCRIPTION:Planung und Erstellung einer Themensammlung\, was bei den kommenden Treffen fotografiert werden soll. Außerdem steht ja bald schon die nächste Börse an\, auf der die Blitzgruppe wieder das Event gestaltet. Deshalb bringt bitte Ideen mit\, was wir alles machen können. Jörg Meisinger und Gerd Freund \nteilen E-Mail teilen Pocket teilen teilen 
URL:https://fotoclub-darmstadt.de/veranstaltung/blitzgruppe-nur-fuer-mitglieder-3/
CATEGORIES:Blitz-Gruppe
END:VEVENT
BEGIN:VEVENT
DTSTART;TZID=Europe/Berlin:20180118T193000
DTEND;TZID=Europe/Berlin:20180118T220000
DTSTAMP:20260425T150307
CREATED:20231005T204014Z
LAST-MODIFIED:20231005T204014Z
UID:18158-1516303800-1516312800@fotoclub-darmstadt.de
SUMMARY:documenta 14 - Nachlese
DESCRIPTION:teilen E-Mail teilen Pocket teilen teilen 
URL:https://fotoclub-darmstadt.de/veranstaltung/documenta-14-nachlese/
CATEGORIES:Der Club
END:VEVENT
BEGIN:VEVENT
DTSTART;TZID=Europe/Berlin:20180123T190000
DTEND;TZID=Europe/Berlin:20180123T213000
DTSTAMP:20260425T150307
CREATED:20231005T204014Z
LAST-MODIFIED:20231005T204014Z
UID:18159-1516734000-1516743000@fotoclub-darmstadt.de
SUMMARY:Drucker-Kreis FÄLLT AUS!
DESCRIPTION:Fällt aus! \nteilen E-Mail teilen Pocket teilen teilen 
URL:https://fotoclub-darmstadt.de/veranstaltung/drucker-kreis-faellt-aus/
CATEGORIES:Drucker-Kreis
END:VEVENT
BEGIN:VEVENT
DTSTART;TZID=Europe/Berlin:20180125T193000
DTEND;TZID=Europe/Berlin:20180125T210000
DTSTAMP:20260425T150307
CREATED:20231005T204016Z
LAST-MODIFIED:20231005T204016Z
UID:18160-1516908600-1516914000@fotoclub-darmstadt.de
SUMMARY:"Stille Post"
DESCRIPTION:Das Projekt „Stille Post“ wurde in Dez. 2017 abgeschlossen und soll jetzt in einem Fotobuch und einer Bildershow (Beamer) erstmals vorgestellt werden.\nRückblende zum Projekt:\nDie Idee ist\, einem Fotografen ein Bild zugeben. Dieser muss hieraus ein Aspekt auswählen und diesen in ein neues Bild umsetzen. Dieser reicht das Bild weiter zum nächsten Fotografen/Fotografin usw. Jeder kennt natürlich nur das Bild seines Vorgängers.\nBeim FCD wurde das Starterbild vom Spielleiter (Theo Jansen) an zwei Gruppen (jeweils 10 Teilnehmer) weitergeleitet.  \nAm Ende der Aktion können dann 2 x 10 Bilder in der Reihenfolge des Weiterreichens vorgestellt werden. Die Idee mit der „Stillen Post“ mit Fotos\, ist nicht neu. Es wurde schon mehrmals von Anderen z.B. vom Fotoclub Ried/Monika Seidel erfolgreich mit überraschenden Ergebnissen präsentiert.  \nteilen E-Mail teilen Pocket teilen teilen 
URL:https://fotoclub-darmstadt.de/veranstaltung/stille-post/
CATEGORIES:Der Club
END:VEVENT
BEGIN:VEVENT
DTSTART;TZID=Europe/Berlin:20180130T193000
DTEND;TZID=Europe/Berlin:20180130T213000
DTSTAMP:20260425T150307
CREATED:20231005T204017Z
LAST-MODIFIED:20231005T204017Z
UID:18163-1517340600-1517347800@fotoclub-darmstadt.de
SUMMARY:DigiKreis: Fortsetzung Objektive testen - hier Auswertung der Testbilder
DESCRIPTION:Wir sehen uns die Testbilder kritisch an! \n \nteilen E-Mail teilen Pocket teilen teilen 
URL:https://fotoclub-darmstadt.de/veranstaltung/digikreis-fortsetzung-objektive-testen-hier-auswertung-der-testbilder/
CATEGORIES:Clubabend,Der Club,Digital Kreis,Veranstaltungen
END:VEVENT
END:VCALENDAR