BEGIN:VCALENDAR
VERSION:2.0
PRODID:-//Foto-Club Darmstadt e.V. - ECPv6.15.20//NONSGML v1.0//EN
CALSCALE:GREGORIAN
METHOD:PUBLISH
X-WR-CALNAME:Foto-Club Darmstadt e.V.
X-ORIGINAL-URL:https://fotoclub-darmstadt.de
X-WR-CALDESC:Veranstaltungen für Foto-Club Darmstadt e.V.
REFRESH-INTERVAL;VALUE=DURATION:PT1H
X-Robots-Tag:noindex
X-PUBLISHED-TTL:PT1H
BEGIN:VTIMEZONE
TZID:Europe/Berlin
BEGIN:DAYLIGHT
TZOFFSETFROM:+0100
TZOFFSETTO:+0200
TZNAME:CEST
DTSTART:20160327T010000
END:DAYLIGHT
BEGIN:STANDARD
TZOFFSETFROM:+0200
TZOFFSETTO:+0100
TZNAME:CET
DTSTART:20161030T010000
END:STANDARD
BEGIN:DAYLIGHT
TZOFFSETFROM:+0100
TZOFFSETTO:+0200
TZNAME:CEST
DTSTART:20170326T010000
END:DAYLIGHT
BEGIN:STANDARD
TZOFFSETFROM:+0200
TZOFFSETTO:+0100
TZNAME:CET
DTSTART:20171029T010000
END:STANDARD
BEGIN:DAYLIGHT
TZOFFSETFROM:+0100
TZOFFSETTO:+0200
TZNAME:CEST
DTSTART:20180325T010000
END:DAYLIGHT
BEGIN:STANDARD
TZOFFSETFROM:+0200
TZOFFSETTO:+0100
TZNAME:CET
DTSTART:20181028T010000
END:STANDARD
END:VTIMEZONE
BEGIN:VEVENT
DTSTART;TZID=Europe/Berlin:20171202T090000
DTEND;TZID=Europe/Berlin:20171202T120000
DTSTAMP:20260425T163946
CREATED:20231005T203940Z
LAST-MODIFIED:20231005T203940Z
UID:18096-1512205200-1512216000@fotoclub-darmstadt.de
SUMMARY:Tische aufstellen
DESCRIPTION:teilen E-Mail teilen Pocket teilen teilen 
URL:https://fotoclub-darmstadt.de/veranstaltung/tische-aufstellen/
CATEGORIES:Börse
END:VEVENT
BEGIN:VEVENT
DTSTART;TZID=Europe/Berlin:20171203T100000
DTEND;TZID=Europe/Berlin:20171203T160000
DTSTAMP:20260425T163946
CREATED:20231005T203940Z
LAST-MODIFIED:20231005T203940Z
UID:18095-1512295200-1512316800@fotoclub-darmstadt.de
SUMMARY:Foto-Börse Darmstadt
DESCRIPTION:teilen E-Mail teilen Pocket teilen teilen 
URL:https://fotoclub-darmstadt.de/veranstaltung/foto-boerse-darmstadt-4/
CATEGORIES:Börse
END:VEVENT
BEGIN:VEVENT
DTSTART;TZID=Europe/Berlin:20171205T193000
DTEND;TZID=Europe/Berlin:20171205T220000
DTSTAMP:20260425T163946
CREATED:20231005T204008Z
LAST-MODIFIED:20231005T204008Z
UID:18145-1512502200-1512511200@fotoclub-darmstadt.de
SUMMARY:DigiKreis: Zubehör vorgestellt: hier Gimbal für Foto und Film (Anke und Marian)
DESCRIPTION:Bald ist es wieder soweit. Vielleicht schenke ich mir doch noch etwas? Details folgen. \n \nteilen E-Mail teilen Pocket teilen teilen 
URL:https://fotoclub-darmstadt.de/veranstaltung/digikreis-zubehoer-vorgestellt-hier-gimbal-fuer-foto-und-film-anke-und-marian/
CATEGORIES:Digital Kreis
END:VEVENT
BEGIN:VEVENT
DTSTART;TZID=Europe/Berlin:20171207T193000
DTEND;TZID=Europe/Berlin:20171207T213000
DTSTAMP:20260425T163946
CREATED:20231005T203937Z
LAST-MODIFIED:20231005T203937Z
UID:18092-1512675000-1512682200@fotoclub-darmstadt.de
SUMMARY:keine Vorstandssitzung
DESCRIPTION:Aufgrund des Babbelabends am 8.12. findet am 7.12. keine VS statt.\nEs muss noch ein neuer Termin gefunden werden. \nteilen E-Mail teilen Pocket teilen teilen 
URL:https://fotoclub-darmstadt.de/veranstaltung/keine-vorstandssitzung/
CATEGORIES:Vorstand
END:VEVENT
BEGIN:VEVENT
DTSTART;TZID=Europe/Berlin:20171208T190000
DTEND;TZID=Europe/Berlin:20171209T000000
DTSTAMP:20260425T163946
CREATED:20231005T203959Z
LAST-MODIFIED:20231005T203959Z
UID:18132-1512759600-1512777600@fotoclub-darmstadt.de
SUMMARY:Babbelabend (Nur für Mitglieder)
DESCRIPTION:Unser diesjähriger Babbelabend findet aufgrund der kurzen Adventszeit bereits in der Woche nach der Fotobörse statt. \nteilen E-Mail teilen Pocket teilen teilen 
URL:https://fotoclub-darmstadt.de/veranstaltung/babbelabend-nur-fuer-mitglieder/
CATEGORIES:Clubabend
END:VEVENT
BEGIN:VEVENT
DTSTART;TZID=Europe/Berlin:20171212T193000
DTEND;TZID=Europe/Berlin:20171212T220000
DTSTAMP:20260425T163946
CREATED:20231005T204008Z
LAST-MODIFIED:20231005T204008Z
UID:18146-1513107000-1513116000@fotoclub-darmstadt.de
SUMMARY:DVF Kreis
DESCRIPTION:teilen E-Mail teilen Pocket teilen teilen 
URL:https://fotoclub-darmstadt.de/veranstaltung/dvf-kreis-3/
CATEGORIES:DVF-Gruppe
END:VEVENT
BEGIN:VEVENT
DTSTART;TZID=Europe/Berlin:20171214T193000
DTEND;TZID=Europe/Berlin:20171214T220000
DTSTAMP:20260425T163946
CREATED:20231005T204011Z
LAST-MODIFIED:20231005T204011Z
UID:18152-1513279800-1513288800@fotoclub-darmstadt.de
SUMMARY:Fotobuch erstellen: IndustrieKultouren - Papierfabrik - 2017
DESCRIPTION:Fotobuch erstellen: IndustrieKultouren – Papierfabrik – 2017 (Hinweis: wurde vom 23.11. auf den 14.12. verschoben).\nDie vorliegenden und bereits weitgehend ausgewählten Bilder der 13 Teilnehmer werden in Lightroom / Blurb vorgestellt.\nKorrekturen \, Ergänzungen werden an diesen Abend direkt vorgenommen.\nDas Auslegen von Papierbilder zur besseren Übersicht und der Zusammenstellung von rechter/linker Buchseite führen wir diesmal nicht durch.\nWer bei der Vorbereitung mithelfen möchte\, meldet sich bitte bei Theo Jansen.  \nteilen E-Mail teilen Pocket teilen teilen 
URL:https://fotoclub-darmstadt.de/veranstaltung/fotobuch-erstellen-industriekultouren-papierfabrik-2017/
CATEGORIES:Der Club
END:VEVENT
BEGIN:VEVENT
DTSTART;TZID=Europe/Berlin:20171219T193000
DTEND;TZID=Europe/Berlin:20171219T220000
DTSTAMP:20260425T163946
CREATED:20231005T204008Z
LAST-MODIFIED:20231005T204008Z
UID:18147-1513711800-1513720800@fotoclub-darmstadt.de
SUMMARY:Blitzgruppe trifft sich erst im Januar wieder
DESCRIPTION:Am 19. Dezember findet kein Treffen der Blitzgruppe statt.\nDas nächste Treffen findet am 16. Januar statt.\nFrohe Weihnachten wünschen Jörg und Gerd. \nteilen E-Mail teilen Pocket teilen teilen 
URL:https://fotoclub-darmstadt.de/veranstaltung/blitzgruppe-trifft-sich-erst-im-januar-wieder/
CATEGORIES:Blitz-Gruppe
END:VEVENT
BEGIN:VEVENT
DTSTART;TZID=Europe/Berlin:20171221T193000
DTEND;TZID=Europe/Berlin:20171221T213000
DTSTAMP:20260425T163946
CREATED:20231005T204012Z
LAST-MODIFIED:20231005T204012Z
UID:18154-1513884600-1513891800@fotoclub-darmstadt.de
SUMMARY:Filmabend
DESCRIPTION:Filmabend\, wie immer mit Bezug zur Fotografie (Theo Jansen) \nteilen E-Mail teilen Pocket teilen teilen 
URL:https://fotoclub-darmstadt.de/veranstaltung/filmabend-2/
CATEGORIES:Clubabend,Der Club
END:VEVENT
END:VCALENDAR