BEGIN:VCALENDAR
VERSION:2.0
PRODID:-//Foto-Club Darmstadt e.V. - ECPv6.15.20//NONSGML v1.0//EN
CALSCALE:GREGORIAN
METHOD:PUBLISH
X-WR-CALNAME:Foto-Club Darmstadt e.V.
X-ORIGINAL-URL:https://fotoclub-darmstadt.de
X-WR-CALDESC:Veranstaltungen für Foto-Club Darmstadt e.V.
REFRESH-INTERVAL;VALUE=DURATION:PT1H
X-Robots-Tag:noindex
X-PUBLISHED-TTL:PT1H
BEGIN:VTIMEZONE
TZID:Europe/Berlin
BEGIN:DAYLIGHT
TZOFFSETFROM:+0100
TZOFFSETTO:+0200
TZNAME:CEST
DTSTART:20160327T010000
END:DAYLIGHT
BEGIN:STANDARD
TZOFFSETFROM:+0200
TZOFFSETTO:+0100
TZNAME:CET
DTSTART:20161030T010000
END:STANDARD
BEGIN:DAYLIGHT
TZOFFSETFROM:+0100
TZOFFSETTO:+0200
TZNAME:CEST
DTSTART:20170326T010000
END:DAYLIGHT
BEGIN:STANDARD
TZOFFSETFROM:+0200
TZOFFSETTO:+0100
TZNAME:CET
DTSTART:20171029T010000
END:STANDARD
BEGIN:DAYLIGHT
TZOFFSETFROM:+0100
TZOFFSETTO:+0200
TZNAME:CEST
DTSTART:20180325T010000
END:DAYLIGHT
BEGIN:STANDARD
TZOFFSETFROM:+0200
TZOFFSETTO:+0100
TZNAME:CET
DTSTART:20181028T010000
END:STANDARD
END:VTIMEZONE
BEGIN:VEVENT
DTSTART;TZID=Europe/Berlin:20170801T193000
DTEND;TZID=Europe/Berlin:20170801T213000
DTSTAMP:20260425T225822
CREATED:20231005T203953Z
LAST-MODIFIED:20231005T203953Z
UID:18121-1501615800-1501623000@fotoclub-darmstadt.de
SUMMARY:Lost Places - Papierfabrik - Bildervorführung (DigitalKreis)
DESCRIPTION:Es sollen die Bilder vom Ausflug zur Papierfabrik (19.3.17) vorgeführt werden. \nteilen E-Mail teilen Pocket teilen teilen 
URL:https://fotoclub-darmstadt.de/veranstaltung/lost-places-papierfabrik-bildervorfuehrung-digitalkreis/
CATEGORIES:Digital Kreis,Gemeinsames Fotografieren
END:VEVENT
BEGIN:VEVENT
DTSTART;TZID=Europe/Berlin:20170803T193000
DTEND;TZID=Europe/Berlin:20170803T220000
DTSTAMP:20260425T225823
CREATED:20231005T203936Z
LAST-MODIFIED:20231005T203936Z
UID:18089-1501788600-1501797600@fotoclub-darmstadt.de
SUMMARY:Vorstandssitzung
DESCRIPTION:teilen E-Mail teilen Pocket teilen teilen 
URL:https://fotoclub-darmstadt.de/veranstaltung/vorstandssitzung-39/
CATEGORIES:Vorstand
END:VEVENT
BEGIN:VEVENT
DTSTART;TZID=Europe/Berlin:20170808T190000
DTEND;TZID=Europe/Berlin:20170808T213000
DTSTAMP:20260425T225823
CREATED:20231005T203948Z
LAST-MODIFIED:20231005T203948Z
UID:18112-1502218800-1502227800@fotoclub-darmstadt.de
SUMMARY:Drucker-Arbeitskreis (bis Fine-Art Printing)
DESCRIPTION:teilen E-Mail teilen Pocket teilen teilen 
URL:https://fotoclub-darmstadt.de/veranstaltung/drucker-arbeitskreis-bis-fine-art-printing/
CATEGORIES:Drucker-Kreis
END:VEVENT
BEGIN:VEVENT
DTSTART;TZID=Europe/Berlin:20170808T193000
DTEND;TZID=Europe/Berlin:20170808T220000
DTSTAMP:20260425T225823
CREATED:20231005T203950Z
LAST-MODIFIED:20231005T203950Z
UID:18116-1502220600-1502229600@fotoclub-darmstadt.de
SUMMARY:Blitz- und Studiofotografie (Nur für Mitglieder)
DESCRIPTION:teilen E-Mail teilen Pocket teilen teilen 
URL:https://fotoclub-darmstadt.de/veranstaltung/blitz-und-studiofotografie-nur-fuer-mitglieder-2/
CATEGORIES:Blitz-Gruppe
END:VEVENT
BEGIN:VEVENT
DTSTART;TZID=Europe/Berlin:20170810T190000
DTEND;TZID=Europe/Berlin:20170810T220000
DTSTAMP:20260425T225823
CREATED:20231005T203946Z
LAST-MODIFIED:20231005T203946Z
UID:18108-1502391600-1502402400@fotoclub-darmstadt.de
SUMMARY:Antrinken im Fohlenhof (Kranichsteiner Str. 90\, DA)
DESCRIPTION:teilen E-Mail teilen Pocket teilen teilen 
URL:https://fotoclub-darmstadt.de/veranstaltung/antrinken-im-fohlenhof-kranichsteiner-str-90-da/
CATEGORIES:Clubabend
END:VEVENT
BEGIN:VEVENT
DTSTART;TZID=Europe/Berlin:20170812T100000
DTEND;TZID=Europe/Berlin:20170812T160000
DTSTAMP:20260425T225823
CREATED:20231005T203951Z
LAST-MODIFIED:20231005T203951Z
UID:18117-1502532000-1502553600@fotoclub-darmstadt.de
SUMMARY:Spinnen Safari - Verschoben auf So. 3.9. (Ausweichtermin Sa. 9.9.)
DESCRIPTION:Nähere Informationen folgen noch \nteilen E-Mail teilen Pocket teilen teilen 
URL:https://fotoclub-darmstadt.de/veranstaltung/spinnen-safari-verschoben-auf-so-3-9-ausweichtermin-sa-9-9/
CATEGORIES:Der Club,Gemeinsames Fotografieren
END:VEVENT
BEGIN:VEVENT
DTSTART;TZID=Europe/Berlin:20170815T193000
DTEND;TZID=Europe/Berlin:20170815T220000
DTSTAMP:20260425T225823
CREATED:20231005T203954Z
LAST-MODIFIED:20231005T203954Z
UID:18122-1502825400-1502834400@fotoclub-darmstadt.de
SUMMARY:Bildervorführung: Lost Places - Papierfabrik (Besuch vom 19.03.17) - DigiKreis/Gemeinsames Fotografieren
DESCRIPTION:Besuch der ehemaligen Papierfabrik am 19.03.17 von 14 Fotografen des Foto-Club \nZiel: Bilder präsentieren\, Bildband erstellen\, Bilder für Vorführungen\, \nund  alles zum Kulturfest am 8.9. fertig zu haben. \nJeder der Teilnehmer zeigt ca. 20-30 Aufnahmen. Hiervon kann später ( am 22.8.)  jeder 16 Bildseiten für den Fotoband  auswählen. In einem 2. Ordner bitte die persönlichen Bilder (von Teilnehmern / Making Of ) mitbringen. Diese werden ebenfalls auf ca 16 Seiten untergebracht. \nWichtig: Die Bilder unbedingt vorher zusenden (WeTransfer)\, sonst klappt die Vorführung an diesen Abend nicht..  \nIm Teil 2 (22.8.) :\nJeder der 14 Teilnehmer legt seine Bilder aus (10×15) rechte/linke Bildbandseite. Dies können 20-30 Bilder sein\, um genug Bilder für die Auswahl zu haben. Dem Fotobuch-Betrachter wollen wir nicht mehrmals das gleich Fotomotiv zeigen. Parallel wird am PC der Fotoband erstellt über Lightroom / Blurb \n  \n  \nteilen E-Mail teilen Pocket teilen teilen 
URL:https://fotoclub-darmstadt.de/veranstaltung/bildervorfuehrung-lost-places-papierfabrik-besuch-vom-19-03-17-digikreis-gemeinsames-fotografieren/
CATEGORIES:Der Club,Digital Kreis,Gemeinsames Fotografieren
END:VEVENT
BEGIN:VEVENT
DTSTART;TZID=Europe/Berlin:20170818T190000
DTEND;TZID=Europe/Berlin:20170818T224500
DTSTAMP:20260425T225823
CREATED:20231005T203954Z
LAST-MODIFIED:20231005T203954Z
UID:18123-1503082800-1503096300@fotoclub-darmstadt.de
SUMMARY:Fällt leider aus: Fotografieren und Grillen - bei Ute Döring (nur für Mitglieder)
DESCRIPTION:Muss aus Wettergründen leider ausfallen!\nErsatztermin: Freitag\, 1.9.2017 \nteilen E-Mail teilen Pocket teilen teilen 
URL:https://fotoclub-darmstadt.de/veranstaltung/faellt-leider-aus-fotografieren-und-grillen-bei-ute-doering-nur-fuer-mitglieder/
CATEGORIES:Clubabend
END:VEVENT
BEGIN:VEVENT
DTSTART;TZID=Europe/Berlin:20170819T063000
DTEND;TZID=Europe/Berlin:20170819T212500
DTSTAMP:20260425T225823
CREATED:20231005T203946Z
LAST-MODIFIED:20231005T203946Z
UID:18109-1503124200-1503177900@fotoclub-darmstadt.de
SUMMARY:Fahrt zur documenta Kassel
DESCRIPTION:Organisation: Hans-Dieter Illing\nFahrkarte: Hessenticket 35€ für bis zu 5 Personen.\nTreffpunkt: Fahrkartenautomat Hbf Darmstadt: 6:15 Uhr\nAbfahrt: 6:30 Uhr\nAnkunft: 9:35 Uhr\nRückfahrt: 18:23 – 21:25 Uhr \nLiebe Documenta Besucher\,  zur Einstimmung sende ich Euch den Link zur Sendung von ttt mit einer extra-Sendung zur documenta.\nTitel\, Thesen\, Temperamente:\nhttp://www.daserste.de/information/wissen-kultur/ttt/sendung/index.html\nSENDUNG VOM 11.06.2017\nSchwerpunktsendung zur documenta 14 in Kassel \nteilen E-Mail teilen Pocket teilen teilen 
URL:https://fotoclub-darmstadt.de/veranstaltung/fahrt-zur-documenta-kassel/
CATEGORIES:Ausstellungen
END:VEVENT
BEGIN:VEVENT
DTSTART;TZID=Europe/Berlin:20170822T190000
DTEND;TZID=Europe/Berlin:20170822T213000
DTSTAMP:20260425T225824
CREATED:20231005T203956Z
LAST-MODIFIED:20231005T203956Z
UID:18127-1503428400-1503437400@fotoclub-darmstadt.de
SUMMARY:Fällt aus - auf 29.8.17 verschoben: DVF-Bundesthemenwettbewerb 2017/2018 (DVF-Kreis)
DESCRIPTION:DVF- Arbeitskreis Fällt aus\, Wird auf den 29.8. verschoben.  \n22.DVF-Bundesthemenwettbewerb 2017/2018\nThema: „Leben in Deutschland-\n„Freizeit\, Sport & Spiel“\nEisendezeit (online): Länder 10.10. – 31.10 2017  \nTreffen des DVF Kreises am 22.8. (regulär) auf den 29.08. verschoben. Zur Info: Im August findet kein digitaler Arbeitskreis statt.  \nteilen E-Mail teilen Pocket teilen teilen 
URL:https://fotoclub-darmstadt.de/veranstaltung/faellt-aus-auf-29-8-17-verschoben-dvf-bundesthemenwettbewerb-2017-2018-dvf-kreis/
CATEGORIES:DVF-Gruppe
END:VEVENT
BEGIN:VEVENT
DTSTART;TZID=Europe/Berlin:20170824T193000
DTEND;TZID=Europe/Berlin:20170824T223000
DTSTAMP:20260425T225824
CREATED:20231005T203956Z
LAST-MODIFIED:20231005T203956Z
UID:18125-1503603000-1503613800@fotoclub-darmstadt.de
SUMMARY:Gemeinsames Fotografieren am Donnerstag
DESCRIPTION:Das Thema Architekturfotografie geht weiter. Statt in Frankfurt diesmal in Darmstadt. Auch hier wollen wir in erster Linie moderne Architektur fotografieren und evtl. in die blaue Stunde hinein. Fotografiert wird im Telekomviertel. Treffpunkt ist auf dem Platz Telekomallee\, Ecke Mina-Rees-Straße (vor dem Restaurant „Lemongrass“) um 19:30 Uhr.\nNachfragen bei Jörg Meisinger 06155-831104 (9.00-18.00 Uhr) \nteilen E-Mail teilen Pocket teilen teilen 
URL:https://fotoclub-darmstadt.de/veranstaltung/gemeinsames-fotografieren-am-donnerstag/
CATEGORIES:Clubabend,Gemeinsames Fotografieren
END:VEVENT
BEGIN:VEVENT
DTSTART;TZID=Europe/Berlin:20170826T130000
DTEND;TZID=Europe/Berlin:20170826T170000
DTSTAMP:20260425T225824
CREATED:20231005T203947Z
LAST-MODIFIED:20231005T203947Z
UID:18110-1503752400-1503766800@fotoclub-darmstadt.de
SUMMARY:Stadt.Landschaft. - Letzter Ausstellungstag
DESCRIPTION:teilen E-Mail teilen Pocket teilen teilen 
URL:https://fotoclub-darmstadt.de/veranstaltung/stadt-landschaft-letzter-ausstellungstag/
CATEGORIES:Ausstellungen,Der Club
END:VEVENT
BEGIN:VEVENT
DTSTART;TZID=Europe/Berlin:20170829T190000
DTEND;TZID=Europe/Berlin:20170829T213000
DTSTAMP:20260425T225824
CREATED:20231005T203957Z
LAST-MODIFIED:20231005T203957Z
UID:18129-1504033200-1504042200@fotoclub-darmstadt.de
SUMMARY:DVF-Bundesthemenwettbewerb 2017/2018 - “Freizeit\, Sport & Spiel”
DESCRIPTION:22.DVF-Bundesthemenwettbewerb 2017/2018\n Thema: “Leben in Deutschland-\n“Freizeit\, Sport & Spiel”\nEisendezeit (online): Länder 10.10. – 31.10 2017  \nBitte Bilder zum Thema „Freizeit\, Sport & Spiel“ mitbringen \nTreffen des DVF Kreises auf den 29.08. verschoben. Zur Info: Im August findet kein digitaler Arbeitskreis statt. \nteilen E-Mail teilen Pocket teilen teilen 
URL:https://fotoclub-darmstadt.de/veranstaltung/dvf-bundesthemenwettbewerb-2017-2018-freizeit-sport-spiel/
CATEGORIES:DVF-Gruppe
END:VEVENT
BEGIN:VEVENT
DTSTART;TZID=Europe/Berlin:20170831T193000
DTEND;TZID=Europe/Berlin:20170831T220000
DTSTAMP:20260425T225824
CREATED:20231005T203948Z
LAST-MODIFIED:20231005T203948Z
UID:18111-1504207800-1504216800@fotoclub-darmstadt.de
SUMMARY:Vorbereitung für das Kulturfest am 08.09.2017
DESCRIPTION:teilen E-Mail teilen Pocket teilen teilen 
URL:https://fotoclub-darmstadt.de/veranstaltung/vorbereitung-fuer-das-kulturfest-am-08-09-2017/
CATEGORIES:Der Club
END:VEVENT
END:VCALENDAR