BEGIN:VCALENDAR
VERSION:2.0
PRODID:-//Foto-Club Darmstadt e.V. - ECPv6.15.20//NONSGML v1.0//EN
CALSCALE:GREGORIAN
METHOD:PUBLISH
X-WR-CALNAME:Foto-Club Darmstadt e.V.
X-ORIGINAL-URL:https://fotoclub-darmstadt.de
X-WR-CALDESC:Veranstaltungen für Foto-Club Darmstadt e.V.
REFRESH-INTERVAL;VALUE=DURATION:PT1H
X-Robots-Tag:noindex
X-PUBLISHED-TTL:PT1H
BEGIN:VTIMEZONE
TZID:Europe/Berlin
BEGIN:DAYLIGHT
TZOFFSETFROM:+0100
TZOFFSETTO:+0200
TZNAME:CEST
DTSTART:20160327T010000
END:DAYLIGHT
BEGIN:STANDARD
TZOFFSETFROM:+0200
TZOFFSETTO:+0100
TZNAME:CET
DTSTART:20161030T010000
END:STANDARD
BEGIN:DAYLIGHT
TZOFFSETFROM:+0100
TZOFFSETTO:+0200
TZNAME:CEST
DTSTART:20170326T010000
END:DAYLIGHT
BEGIN:STANDARD
TZOFFSETFROM:+0200
TZOFFSETTO:+0100
TZNAME:CET
DTSTART:20171029T010000
END:STANDARD
BEGIN:DAYLIGHT
TZOFFSETFROM:+0100
TZOFFSETTO:+0200
TZNAME:CEST
DTSTART:20180325T010000
END:DAYLIGHT
BEGIN:STANDARD
TZOFFSETFROM:+0200
TZOFFSETTO:+0100
TZNAME:CET
DTSTART:20181028T010000
END:STANDARD
END:VTIMEZONE
BEGIN:VEVENT
DTSTART;TZID=Europe/Berlin:20170706T193000
DTEND;TZID=Europe/Berlin:20170706T220000
DTSTAMP:20260426T003130
CREATED:20231005T203933Z
LAST-MODIFIED:20231005T203933Z
UID:18085-1499369400-1499378400@fotoclub-darmstadt.de
SUMMARY:Vorstandssitzung
DESCRIPTION:teilen E-Mail teilen Pocket teilen teilen 
URL:https://fotoclub-darmstadt.de/veranstaltung/vorstandssitzung-38/
CATEGORIES:Vorstand
END:VEVENT
BEGIN:VEVENT
DTSTART;TZID=Europe/Berlin:20170713T193000
DTEND;TZID=Europe/Berlin:20170713T213000
DTSTAMP:20260426T003130
CREATED:20231005T203926Z
LAST-MODIFIED:20231005T203926Z
UID:18073-1499974200-1499981400@fotoclub-darmstadt.de
SUMMARY:Sommerarbeiten
DESCRIPTION:teilen E-Mail teilen Pocket teilen teilen 
URL:https://fotoclub-darmstadt.de/veranstaltung/sommerarbeiten-4/
CATEGORIES:Der Club
END:VEVENT
BEGIN:VEVENT
DTSTART;TZID=Europe/Berlin:20170720T193000
DTEND;TZID=Europe/Berlin:20170720T213000
DTSTAMP:20260426T003130
CREATED:20231005T203928Z
LAST-MODIFIED:20231005T203928Z
UID:18074-1500579000-1500586200@fotoclub-darmstadt.de
SUMMARY:Sommerarbeiten
DESCRIPTION:teilen E-Mail teilen Pocket teilen teilen 
URL:https://fotoclub-darmstadt.de/veranstaltung/sommerarbeiten-5/
CATEGORIES:Der Club
END:VEVENT
BEGIN:VEVENT
DTSTART;VALUE=DATE:20170722
DTEND;VALUE=DATE:20170723
DTSTAMP:20260426T003130
CREATED:20231005T203934Z
LAST-MODIFIED:20231005T203934Z
UID:18088-1500681600-1500767999@fotoclub-darmstadt.de
SUMMARY:Fahrt zur documenta Kassel (geplant)
DESCRIPTION:Details folgen noch (Organisation: Hans-Dieter Illing) \nteilen E-Mail teilen Pocket teilen teilen 
URL:https://fotoclub-darmstadt.de/veranstaltung/fahrt-zur-documenta-kassel-geplant/
CATEGORIES:Ausstellungen
END:VEVENT
BEGIN:VEVENT
DTSTART;TZID=Europe/Berlin:20170725T190000
DTEND;TZID=Europe/Berlin:20170725T213000
DTSTAMP:20260426T003130
CREATED:20231005T203945Z
LAST-MODIFIED:20231005T203945Z
UID:18107-1501009200-1501018200@fotoclub-darmstadt.de
SUMMARY:Bildbearbeitung (Michael Frieser)
DESCRIPTION:Teilnehmern wird ein oder zwei Bilder zur Bearbeitung vor der Sitzung zugemailt. Dies erspart uns die Zeit für Bild-Übertragungen während der Vorführung.\nMichael Frieser wird seinen Workflow (Photoshop\, Nic-Software) an Hand dieser Vorlagen vorführen\,\ndie dann jeder an seinem Laptop nachvollziehen kann.\nDiese Bilder kann natürlich auch jeder vorher zu Hause mit seinen Programmen bearbeiten und zur Sitzung mitbringen.\nSo entstehen vielleicht optimale Lerneffekte und Workflow Vergleiche. \nteilen E-Mail teilen Pocket teilen teilen 
URL:https://fotoclub-darmstadt.de/veranstaltung/bildbearbeitung-michael-frieser/
CATEGORIES:DVF-Gruppe
END:VEVENT
BEGIN:VEVENT
DTSTART;TZID=Europe/Berlin:20170725T193000
DTEND;TZID=Europe/Berlin:20170725T220000
DTSTAMP:20260426T003130
CREATED:20231005T203950Z
LAST-MODIFIED:20231005T203950Z
UID:18115-1501011000-1501020000@fotoclub-darmstadt.de
SUMMARY:Blitz-und Studiofotografie (Nur für Mitglieder)
DESCRIPTION:teilen E-Mail teilen Pocket teilen teilen 
URL:https://fotoclub-darmstadt.de/veranstaltung/blitz-und-studiofotografie-nur-fuer-mitglieder/
CATEGORIES:Blitz-Gruppe
END:VEVENT
BEGIN:VEVENT
DTSTART;TZID=Europe/Berlin:20170727T193000
DTEND;TZID=Europe/Berlin:20170727T213000
DTSTAMP:20260426T003130
CREATED:20231005T203928Z
LAST-MODIFIED:20231005T203928Z
UID:18075-1501183800-1501191000@fotoclub-darmstadt.de
SUMMARY:Sommerarbeiten
DESCRIPTION:teilen E-Mail teilen Pocket teilen teilen 
URL:https://fotoclub-darmstadt.de/veranstaltung/sommerarbeiten-6/
CATEGORIES:Der Club
END:VEVENT
END:VCALENDAR