BEGIN:VCALENDAR
VERSION:2.0
PRODID:-//Foto-Club Darmstadt e.V. - ECPv6.15.20//NONSGML v1.0//EN
CALSCALE:GREGORIAN
METHOD:PUBLISH
X-WR-CALNAME:Foto-Club Darmstadt e.V.
X-ORIGINAL-URL:https://fotoclub-darmstadt.de
X-WR-CALDESC:Veranstaltungen für Foto-Club Darmstadt e.V.
REFRESH-INTERVAL;VALUE=DURATION:PT1H
X-Robots-Tag:noindex
X-PUBLISHED-TTL:PT1H
BEGIN:VTIMEZONE
TZID:Europe/Berlin
BEGIN:DAYLIGHT
TZOFFSETFROM:+0100
TZOFFSETTO:+0200
TZNAME:CEST
DTSTART:20160327T010000
END:DAYLIGHT
BEGIN:STANDARD
TZOFFSETFROM:+0200
TZOFFSETTO:+0100
TZNAME:CET
DTSTART:20161030T010000
END:STANDARD
BEGIN:DAYLIGHT
TZOFFSETFROM:+0100
TZOFFSETTO:+0200
TZNAME:CEST
DTSTART:20170326T010000
END:DAYLIGHT
BEGIN:STANDARD
TZOFFSETFROM:+0200
TZOFFSETTO:+0100
TZNAME:CET
DTSTART:20171029T010000
END:STANDARD
BEGIN:DAYLIGHT
TZOFFSETFROM:+0100
TZOFFSETTO:+0200
TZNAME:CEST
DTSTART:20180325T010000
END:DAYLIGHT
BEGIN:STANDARD
TZOFFSETFROM:+0200
TZOFFSETTO:+0100
TZNAME:CET
DTSTART:20181028T010000
END:STANDARD
END:VTIMEZONE
BEGIN:VEVENT
DTSTART;TZID=Europe/Berlin:20170601T193000
DTEND;TZID=Europe/Berlin:20170601T223000
DTSTAMP:20260426T015553
CREATED:20231005T203931Z
LAST-MODIFIED:20231005T203931Z
UID:18081-1496345400-1496356200@fotoclub-darmstadt.de
SUMMARY:Vorstandssitzung
DESCRIPTION:teilen E-Mail teilen Pocket teilen teilen 
URL:https://fotoclub-darmstadt.de/veranstaltung/vorstandssitzung-37/
CATEGORIES:Vorstand
END:VEVENT
BEGIN:VEVENT
DTSTART;TZID=Europe/Berlin:20170606T193000
DTEND;TZID=Europe/Berlin:20170606T213000
DTSTAMP:20260426T015553
CREATED:20231005T203928Z
LAST-MODIFIED:20231005T203928Z
UID:18077-1496777400-1496784600@fotoclub-darmstadt.de
SUMMARY:DigiKreis: Was tut sich auf dem Kamera Markt
DESCRIPTION:Eine Übersicht und Diskussion. Offen für alle Systeme! \n \nteilen E-Mail teilen Pocket teilen teilen 
URL:https://fotoclub-darmstadt.de/veranstaltung/digikreis-was-tut-sich-auf-dem-kamera-markt/
CATEGORIES:Digital Kreis,Veranstaltungen
END:VEVENT
BEGIN:VEVENT
DTSTART;TZID=Europe/Berlin:20170608T193000
DTEND;TZID=Europe/Berlin:20170608T213000
DTSTAMP:20260426T015553
CREATED:20231005T203931Z
LAST-MODIFIED:20231005T203931Z
UID:18082-1496950200-1496957400@fotoclub-darmstadt.de
SUMMARY:Bildbesprechung zur Portraitfotografie vom 18.5. (Theo Jansen)
DESCRIPTION:Es werden die Bilder vom 18.5. vorgeführt und besprochen \nteilen E-Mail teilen Pocket teilen teilen 
URL:https://fotoclub-darmstadt.de/veranstaltung/bildbesprechung-zur-portraitfotografie-vom-18-5-theo-jansen/
CATEGORIES:Clubabend
END:VEVENT
BEGIN:VEVENT
DTSTART;VALUE=DATE:20170610
DTEND;VALUE=DATE:20170611
DTSTAMP:20260426T015553
CREATED:20231005T203934Z
LAST-MODIFIED:20231005T203934Z
UID:18086-1497052800-1497139199@fotoclub-darmstadt.de
SUMMARY:Odenwaldausflug  (in Planung)
DESCRIPTION:teilen E-Mail teilen Pocket teilen teilen 
URL:https://fotoclub-darmstadt.de/veranstaltung/odenwaldausflug-in-planung/
CATEGORIES:Der Club
END:VEVENT
BEGIN:VEVENT
DTSTART;TZID=Europe/Berlin:20170613T190000
DTEND;TZID=Europe/Berlin:20170613T213000
DTSTAMP:20260426T015553
CREATED:20231005T203925Z
LAST-MODIFIED:20231005T203925Z
UID:18072-1497380400-1497389400@fotoclub-darmstadt.de
SUMMARY:Drucker - Kreis: Bilder für DVF-L4-Südd.Fotomeisterschaften ausdrucken
DESCRIPTION:teilen E-Mail teilen Pocket teilen teilen 
URL:https://fotoclub-darmstadt.de/veranstaltung/drucker-kreis-bilder-fuer-dvf-l4-suedd-fotomeisterschaften-ausdrucken/
CATEGORIES:Drucker-Kreis
END:VEVENT
BEGIN:VEVENT
DTSTART;VALUE=DATE:20170615
DTEND;VALUE=DATE:20170616
DTSTAMP:20260426T015553
CREATED:20231005T203930Z
LAST-MODIFIED:20231005T203930Z
UID:18080-1497484800-1497571199@fotoclub-darmstadt.de
SUMMARY:Feiertag (Fronleichnam)
DESCRIPTION:kein Foto-Club Programm \nteilen E-Mail teilen Pocket teilen teilen 
URL:https://fotoclub-darmstadt.de/veranstaltung/feiertag-fronleichnam/
CATEGORIES:Der Club
END:VEVENT
BEGIN:VEVENT
DTSTART;TZID=Europe/Berlin:20170620T193000
DTEND;TZID=Europe/Berlin:20170620T220000
DTSTAMP:20260426T015553
CREATED:20231005T203943Z
LAST-MODIFIED:20231005T203943Z
UID:18102-1497987000-1497996000@fotoclub-darmstadt.de
SUMMARY:DigiKreis: Drohnen / Drohnenfotografie / Drohnenvideografie mit Florian Reinhard
DESCRIPTION:Ein Bericht über die ersten Erfahrungen\, technische Möglichkeiten\, Risiken und rechtlichen Rahmenbedingungen der Nutzung ziviler Multikopter.“ \nMit „Modellbau“ haben die fliegenden Hochleistungscomputer\, die letztendlich nur von einer ausgeklügelten Regelungstechnik in der Luft gehalten werden\, nichts mehr zu tun und sind so auch von Einsteigern leicht zu bedienen – dies ist neben den sinkenden Preisen der Hauptgrund für ihre stark zunehmende Verbreitung. Daraus ergeben sich neue Möglichkeiten in der Fotografie. \nFlorian ist selbst seit einigen Wochen Besitzer einer Drohne und wird über erste Erfahrungen\, technische Möglichkeiten\, Risiken\, rechtliche Rahmenbedingungen usw. sprechen und vielleicht ein paar Funktionen demonstrieren. \n \n  \nteilen E-Mail teilen Pocket teilen teilen 
URL:https://fotoclub-darmstadt.de/veranstaltung/digikreis-drohnen-drohnenfotografie-drohnenvideografie-mit-florian-reinhard/
CATEGORIES:Der Club,Digital Kreis
END:VEVENT
BEGIN:VEVENT
DTSTART;TZID=Europe/Berlin:20170622T190000
DTEND;TZID=Europe/Berlin:20170622T223000
DTSTAMP:20260426T015553
CREATED:20231005T203945Z
LAST-MODIFIED:20231005T203945Z
UID:18105-1498158000-1498170600@fotoclub-darmstadt.de
SUMMARY:Draußen fotografieren - "Blaue Stunde" in Frankfurt (mit Jörg Meisinger)
DESCRIPTION:Fotografieren in der „Blauen Stunde“ (Architektur\, Langzeitbelichtungen) im Bankenviertel Frankfurt mit Jörg Meisinger. Die „Blaue Stunde“ beginnt nach Sonnenuntergang\, der 21.39 Uhr ist. Bitte bringt auch die Systemblitze mit. Zum Organisieren von Fahrgemeinschaften: Treffpunkt bereits 19.00 am Club. \nZur Planung: http://doodle.com/poll/mb7y3mtywrxfzmgv \nTreffpunkt in Frankfurt: 20.30 Uhr\, Platz der Einheit: \nhttps://www.google.de/maps/place/50%C2%B006’40.8%22N+8%C2%B039’16.8%22E/@50.1113359\,8.6540992\,181m/data=!3m2!1e3!4b1!4m5!3m4!1s0x0:0x0!8m2!3d50.111335!4d8.654666 \nJörg Meisinger mobil: 0171-3703155 \n  \nteilen E-Mail teilen Pocket teilen teilen 
URL:https://fotoclub-darmstadt.de/veranstaltung/draussen-fotografieren-blaue-stunde-in-frankfurt-mit-joerg-meisinger/
CATEGORIES:Der Club
END:VEVENT
BEGIN:VEVENT
DTSTART;TZID=Europe/Berlin:20170627T190000
DTEND;TZID=Europe/Berlin:20170627T213000
DTSTAMP:20260426T015553
CREATED:20231005T203945Z
LAST-MODIFIED:20231005T203945Z
UID:18106-1498590000-1498599000@fotoclub-darmstadt.de
SUMMARY:Bildbearbeitung mit Michael Frieser  (DVF - Kreis)
DESCRIPTION:DVF – Arbeitskreis (offen für alle Mitglieder):\nThema Bildbearbeitung (Teil 2) :\nMichael Frieser unterstützt uns hier bei der Bildbearbeitung/Bildoptimierung \nJeder bringt ein Bild und seinen eigenen Laptop mit.\n -Bitte ein Bild zur Bearbeitung mitbringen \nWir führen hier die Reihe zur Bildbearbeitung/Bildoptimierung fort. \nVorschau:\nRolf Gönner wird unsere eingereichten Bilder zur Ausstellung „Stadt.Landschaft.“ besprechen und hier insbesondere unsere Kamera-Einstellungen unter die Lupe nehmen. Rolf Gönner ist bei den Druckvorlagen so einiges aufgefallen (EXIF-Daten). \nteilen E-Mail teilen Pocket teilen teilen 
URL:https://fotoclub-darmstadt.de/veranstaltung/bildbearbeitung-mit-michael-frieser-dvf-kreis/
CATEGORIES:DVF-Gruppe
END:VEVENT
BEGIN:VEVENT
DTSTART;TZID=Europe/Berlin:20170628T180000
DTEND;TZID=Europe/Berlin:20170628T213000
DTSTAMP:20260426T015553
CREATED:20231005T203934Z
LAST-MODIFIED:20231005T203934Z
UID:18087-1498672800-1498685400@fotoclub-darmstadt.de
SUMMARY:Ausstellung "Stadt.Landschaft." - Ausstellungseröffnung im Weißen Turm
DESCRIPTION:teilen E-Mail teilen Pocket teilen teilen 
URL:https://fotoclub-darmstadt.de/veranstaltung/ausstellung-stadt-landschaft-ausstellungseroeffnung-im-weissen-turm/
CATEGORIES:Ausstellungen,Der Club,Vernissage
END:VEVENT
BEGIN:VEVENT
DTSTART;TZID=Europe/Berlin:20170629T190000
DTEND;TZID=Europe/Berlin:20170629T220000
DTSTAMP:20260426T015553
CREATED:20231005T203933Z
LAST-MODIFIED:20231005T203933Z
UID:18084-1498762800-1498773600@fotoclub-darmstadt.de
SUMMARY:Heinerfestbummel und Ausstellungsbesuch im Weißen Turm
DESCRIPTION:Treffen zum Heinerfestbummel und Gelegenheit die Ausstellung im Weißen Turm zu besichtigen (für diejenigen\, die zur Eröffnung nicht kommen konnten) \nTreffpunkt: Weißer Turm um 19 Uhr \n  \nteilen E-Mail teilen Pocket teilen teilen 
URL:https://fotoclub-darmstadt.de/veranstaltung/heinerfestbummel-und-ausstellungsbesuch-im-weissen-turm/
CATEGORIES:Clubabend
END:VEVENT
END:VCALENDAR