BEGIN:VCALENDAR
VERSION:2.0
PRODID:-//Foto-Club Darmstadt e.V. - ECPv6.15.20//NONSGML v1.0//EN
CALSCALE:GREGORIAN
METHOD:PUBLISH
X-ORIGINAL-URL:https://fotoclub-darmstadt.de
X-WR-CALDESC:Veranstaltungen für Foto-Club Darmstadt e.V.
REFRESH-INTERVAL;VALUE=DURATION:PT1H
X-Robots-Tag:noindex
X-PUBLISHED-TTL:PT1H
BEGIN:VTIMEZONE
TZID:Europe/Berlin
BEGIN:DAYLIGHT
TZOFFSETFROM:+0100
TZOFFSETTO:+0200
TZNAME:CEST
DTSTART:20160327T010000
END:DAYLIGHT
BEGIN:STANDARD
TZOFFSETFROM:+0200
TZOFFSETTO:+0100
TZNAME:CET
DTSTART:20161030T010000
END:STANDARD
BEGIN:DAYLIGHT
TZOFFSETFROM:+0100
TZOFFSETTO:+0200
TZNAME:CEST
DTSTART:20170326T010000
END:DAYLIGHT
BEGIN:STANDARD
TZOFFSETFROM:+0200
TZOFFSETTO:+0100
TZNAME:CET
DTSTART:20171029T010000
END:STANDARD
BEGIN:DAYLIGHT
TZOFFSETFROM:+0100
TZOFFSETTO:+0200
TZNAME:CEST
DTSTART:20180325T010000
END:DAYLIGHT
BEGIN:STANDARD
TZOFFSETFROM:+0200
TZOFFSETTO:+0100
TZNAME:CET
DTSTART:20181028T010000
END:STANDARD
END:VTIMEZONE
BEGIN:VEVENT
DTSTART;TZID=Europe/Berlin:20170502T190000
DTEND;TZID=Europe/Berlin:20170502T213000
DTSTAMP:20260426T033247
CREATED:20231005T203920Z
LAST-MODIFIED:20231005T203920Z
UID:18063-1493751600-1493760600@fotoclub-darmstadt.de
SUMMARY:Bildbesprechung "Die Mathildenhöhe im Wandel" anstelle DVF - Kreis
DESCRIPTION:teilen E-Mail teilen Pocket teilen teilen 
URL:https://fotoclub-darmstadt.de/veranstaltung/bildbesprechung-die-mathildenhoehe-im-wandel-anstelle-dvf-kreis/
CATEGORIES:Der Club,DVF-Gruppe
END:VEVENT
BEGIN:VEVENT
DTSTART;TZID=Europe/Berlin:20170504T193000
DTEND;TZID=Europe/Berlin:20170504T223000
DTSTAMP:20260426T033247
CREATED:20231005T203923Z
LAST-MODIFIED:20231005T203923Z
UID:18067-1493926200-1493937000@fotoclub-darmstadt.de
SUMMARY:Vorstandssitzung
DESCRIPTION:teilen E-Mail teilen Pocket teilen teilen 
URL:https://fotoclub-darmstadt.de/veranstaltung/vorstandssitzung-36/
CATEGORIES:Vorstand
END:VEVENT
BEGIN:VEVENT
DTSTART;TZID=Europe/Berlin:20170509T193000
DTEND;TZID=Europe/Berlin:20170509T210000
DTSTAMP:20260426T033247
CREATED:20231005T203919Z
LAST-MODIFIED:20231005T203919Z
UID:18060-1494358200-1494363600@fotoclub-darmstadt.de
SUMMARY:DigiKreis Workshop: Eigene Arbeiten präsentieren mit Mario Lischka
DESCRIPTION:Bei den Clubabenden werden öfters  Bilder zu einem Thema oder die Ergebnisse des gemeinsamen Fotografierens präsentiert. Auf der Webseite des Foto-Clubs hat jedes Mitglied die Möglichkeit seine Arbeiten zu präsentieren. Bisher bleibt es leider zuoft bei der Präsentation am jeweiligen Clubabend und nur wenig aktuelle Arbeiten sind in den Gallerien zu sehen. \nAn diesem Workshop soll es darum gehen\, gemeinsam aktuelle Arbeiten aufzuarbeiten und als Mitgliedergalerien oder Beiträge auf der Webseite zu präsentieren. \nAls Vorbereitung sollten die Bilder\, die präsentiert werden sollen schon ausgewählt und ggf. auf HD Format reduziert worden sein. Dazu kann jeder interessierte dann schon vorab\, kürzere oder längere Texte formulieren.\nDie Dateien können dann während des Workshops per USB auf Club Laptops eingespielt oder auf eigenen Latops bzw. Tablets mitgebracht werden. Die Schritte zur Veröffentlichung werden dann im Workshop gezeigt und gemeinsam durchgeführt. \n \nteilen E-Mail teilen Pocket teilen teilen 
URL:https://fotoclub-darmstadt.de/veranstaltung/digikreis-workshop-eigene-arbeiten-praesentieren-mit-mario-lischka/
LOCATION:Seminarraum\, Foto-Club Darmstadt\, Kasinostraße 8\, 64293 Darmstadt\, Deutschland\, Darmstadt\, Hessen\, 64293\, Deutschland
CATEGORIES:Der Club,Digital Kreis,Digital Kreis Workshop
END:VEVENT
BEGIN:VEVENT
DTSTART;TZID=Europe/Berlin:20170511T193000
DTEND;TZID=Europe/Berlin:20170511T220000
DTSTAMP:20260426T033247
CREATED:20231005T203925Z
LAST-MODIFIED:20231005T203925Z
UID:18070-1494531000-1494540000@fotoclub-darmstadt.de
SUMMARY:Bildbesprechung zur Ausstellung "Stadt.Landschaft."
DESCRIPTION:teilen E-Mail teilen Pocket teilen teilen 
URL:https://fotoclub-darmstadt.de/veranstaltung/bildbesprechung-zur-ausstellung-stadt-landschaft/
END:VEVENT
BEGIN:VEVENT
DTSTART;TZID=Europe/Berlin:20170516T190000
DTEND;TZID=Europe/Berlin:20170516T213000
DTSTAMP:20260426T033247
CREATED:20231005T203922Z
LAST-MODIFIED:20231005T203922Z
UID:18064-1494961200-1494970200@fotoclub-darmstadt.de
SUMMARY:Drucker-Kreis
DESCRIPTION:teilen E-Mail teilen Pocket teilen teilen 
URL:https://fotoclub-darmstadt.de/veranstaltung/drucker-kreis/
CATEGORIES:Drucker-Kreis
END:VEVENT
BEGIN:VEVENT
DTSTART;TZID=Europe/Berlin:20170516T193000
DTEND;TZID=Europe/Berlin:20170516T220000
DTSTAMP:20260426T033247
CREATED:20231005T203922Z
LAST-MODIFIED:20231005T203922Z
UID:18065-1494963000-1494972000@fotoclub-darmstadt.de
SUMMARY:Blitz- und Studiofotografie
DESCRIPTION:teilen E-Mail teilen Pocket teilen teilen 
URL:https://fotoclub-darmstadt.de/veranstaltung/blitz-und-studiofotografie-3/
CATEGORIES:Blitz-Gruppe
END:VEVENT
BEGIN:VEVENT
DTSTART;TZID=Europe/Berlin:20170518T190000
DTEND;TZID=Europe/Berlin:20170518T213000
DTSTAMP:20260426T033247
CREATED:20231005T203925Z
LAST-MODIFIED:20231005T203925Z
UID:18071-1495134000-1495143000@fotoclub-darmstadt.de
SUMMARY:Portrait Fotografie
DESCRIPTION:Treffpunkt: Luiesenplatz Darmstadt (Brunnen vor dem Luiesencenter) . Hier kommen die letzten Sonnenstrahlen hin.\nUhrzeit: 19:00 Uhr\nBetreuer: Theo Jansen\nThema: Portrait Fotografie mit dem Tagesrestlicht (Sonnenuntergang 21 Uhr) und der Stadtbeleuchtung (ohne Blitz).\nVom Luiesenplatz aus versuchen wir in Zweiergruppen verschiedene Lichtverhältnisse und Hintergründe als Bildgestaltung für unsere Portraits mit einzubeziehen. \n  \n  \n  \n  \nteilen E-Mail teilen Pocket teilen teilen 
URL:https://fotoclub-darmstadt.de/veranstaltung/portrait-fotografie/
CATEGORIES:Der Club
END:VEVENT
BEGIN:VEVENT
DTSTART;TZID=Europe/Berlin:20170520T170000
DTEND;TZID=Europe/Berlin:20170520T234500
DTSTAMP:20260426T033247
CREATED:20231005T203943Z
LAST-MODIFIED:20231005T203943Z
UID:18104-1495299600-1495323900@fotoclub-darmstadt.de
SUMMARY:Jugendstiltage -Foto-Club-Ausstellung: "Die Mathildenhöhe im Wandel"
DESCRIPTION:teilen E-Mail teilen Pocket teilen teilen 
URL:https://fotoclub-darmstadt.de/veranstaltung/jugendstiltage-foto-club-ausstellung-die-mathildenhoehe-im-wandel-2/
CATEGORIES:Ausstellungen,Der Club
END:VEVENT
BEGIN:VEVENT
DTSTART;TZID=Europe/Berlin:20170521T120000
DTEND;TZID=Europe/Berlin:20170521T170000
DTSTAMP:20260426T033247
CREATED:20231005T203920Z
LAST-MODIFIED:20231005T203920Z
UID:18062-1495368000-1495386000@fotoclub-darmstadt.de
SUMMARY:Jugendstiltage -Foto-Club-Ausstellung: "Die Mathildenhöhe im Wandel"
DESCRIPTION:teilen E-Mail teilen Pocket teilen teilen 
URL:https://fotoclub-darmstadt.de/veranstaltung/jugendstiltage-foto-club-ausstellung-die-mathildenhoehe-im-wandel/
CATEGORIES:Ausstellungen,Der Club
END:VEVENT
BEGIN:VEVENT
DTSTART;TZID=Europe/Berlin:20170523T193000
DTEND;TZID=Europe/Berlin:20170523T213000
DTSTAMP:20260426T033247
CREATED:20231005T203943Z
LAST-MODIFIED:20231005T203943Z
UID:18103-1495567800-1495575000@fotoclub-darmstadt.de
SUMMARY:DigiKreis Workshop: Eigene Arbeiten präsentieren für Nachzügler
DESCRIPTION:Wer es nicht geschafft hat am 09. Mai in den FCD zu kommen hat hier noch einmal die Möglichkeit zu üben. \nDer vorgesehene \nDigiKreis: Drohnen / Drohnenfotografie / Drohnenvideografie mit Florian Reinhard\nwird auf Wunsch von Florian auf den 20. Juni verschoben. \n \nteilen E-Mail teilen Pocket teilen teilen 
URL:https://fotoclub-darmstadt.de/veranstaltung/digikreis-workshop-eigene-arbeiten-praesentieren-fuer-nachzuegler/
CATEGORIES:Digital Kreis,Veranstaltungen
END:VEVENT
BEGIN:VEVENT
DTSTART;VALUE=DATE:20170525
DTEND;VALUE=DATE:20170526
DTSTAMP:20260426T033247
CREATED:20231005T203931Z
LAST-MODIFIED:20231005T203931Z
UID:18083-1495670400-1495756799@fotoclub-darmstadt.de
SUMMARY:Feiertag (Christi Himmelfahrt)
DESCRIPTION:kein Programm im Foto-Club \nteilen E-Mail teilen Pocket teilen teilen 
URL:https://fotoclub-darmstadt.de/veranstaltung/feiertag-christi-himmelfahrt/
CATEGORIES:Der Club
END:VEVENT
BEGIN:VEVENT
DTSTART;TZID=Europe/Berlin:20170527T111500
DTEND;TZID=Europe/Berlin:20170527T123000
DTSTAMP:20260426T033247
CREATED:20231005T203943Z
LAST-MODIFIED:20231005T203943Z
UID:18101-1495883700-1495888200@fotoclub-darmstadt.de
SUMMARY:Besuch der Ausstellung “Fotografien werden Bilder”
DESCRIPTION:Für alle Mitglieder bietet der Fotoclub Darmstadt am Samstag\, den 27. Mai 2017\, einen gemeinsamen Besuch der Aussstellung “Fotografien werden Bilder” inklusive Führung an. \nTreffpunkt ist um 11:15 im Eingangsbereich des Städel Museums. Die Kosten für die Führung übernimmt der Fotoclub\, Anreise und Eintritt (14€) ist von jedem Mitglied selbst zu tragen. \nEine gemeinsame Anreise per ÖPNV ab Darmstadt HBF um 10:30 Uhr ist ebenfalls geplant. Weitere Details werden im internen Forum koordiniert. \nteilen E-Mail teilen Pocket teilen teilen 
URL:https://fotoclub-darmstadt.de/veranstaltung/besuch-der-ausstellung-fotografien-werden-bilder/
LOCATION:Städel Museum\, Schaumainkai 63\, 60596 Frankfurt am Main\, Deutschland\, Frankfurt am Main\, Hessen\, 60596\, Deutschland
CATEGORIES:Der Club,Veranstaltungen
END:VEVENT
BEGIN:VEVENT
DTSTART;TZID=Europe/Berlin:20170530T190000
DTEND;TZID=Europe/Berlin:20170530T213000
DTSTAMP:20260426T033247
CREATED:20231005T203922Z
LAST-MODIFIED:20231005T203922Z
UID:18066-1496170800-1496179800@fotoclub-darmstadt.de
SUMMARY:DVF-Kreis: Bildbearbeitung\, jeder bringt ein Bild mit
DESCRIPTION:Bildbearbeitung:\njeder bringt ein Bild mit\, diejenigen vom DVF bringen ihre Auswahl für Südd. Fotomeisterschaften mit. \nteilen E-Mail teilen Pocket teilen teilen 
URL:https://fotoclub-darmstadt.de/veranstaltung/dvf-kreis-bildbearbeitung-jeder-bringt-ein-bild-mit/
CATEGORIES:DVF-Gruppe
END:VEVENT
END:VCALENDAR